BEGIN:VCALENDAR
CALSCALE:GREGORIAN
BEGIN:VEVENT
DTSTAMP:20231022T063332Z
DTSTART:20221205T130000Z
DTEND:20221205T140000Z
SUMMARY:8th Briefing on Regulatory Trends in the European Union and at the International Level
UID:8acd0994-6d83-4cc6-95e0-927580c03fa0
LOCATION:
DESCRIPTION:Thank you for registering to our event "8th Briefing on Regulatory Trends in the European Union and at the International Level".\n\nWe're looking forward to seeing you there.\n\nJoin Zoom Meeting\nhttps://us02web.zoom.us/j/82095887321\n\nMeeting-ID: 820 9588 7321\n\nDial in according to current location (Switzerland):\n+41 44 529 92 72\n+41 22 591 00 05\n+41 22 591 01 56\n+41 31 528 09 88\n+41 43 210 70 42\n+41 43 210 71 08\nOther locations: https://us02web.zoom.us/u/kc7FZabPlf\n\nIf you have any questions or need to cancel your registration\, please reply to this Email.\n\nYour Global Compact Network Switzerland & Liechtenstein Secretariat\n\nHere are the event details:\n\n8th Briefing on Regulatory Trends in the European Union and at the International Level\n5 December 2022\, 14:00–15:00\nOnline Event
X-ALT-DESC;FMTTYPE=text/html:Thank you for registering to our event "8th Briefing on Regulatory Trends in the European Union and at the International Level".\n\nWe're looking forward to seeing you there.\n\nJoin Zoom Meeting\nhttps://us02web.zoom.us/j/82095887321\n\nMeeting-ID: 820 9588 7321\n\nDial in according to current location (Switzerland):\n+41 44 529 92 72\n+41 22 591 00 05\n+41 22 591 01 56\n+41 31 528 09 88\n+41 43 210 70 42\n+41 43 210 71 08\nOther locations: https://us02web.zoom.us/u/kc7FZabPlf\n\nIf you have any questions or need to cancel your registration\, please reply to this Email.\n\nYour Global Compact Network Switzerland & Liechtenstein Secretariat\n\nHere are the event details:<br>8th Briefing on Regulatory Trends in the European Union and at the International Level\n5 December 2022\, 14:00–15:00\nOnline Event
END:VEVENT
END:VCALENDAR
