BEGIN:VCALENDAR
CALSCALE:GREGORIAN
BEGIN:VEVENT
DTSTAMP:20231022T063358Z
DTSTART:20220920T110000Z
DTEND:20220920T153000Z
SUMMARY:Training: Development of a sustainability strategy 
UID:8e3125bc-f2f6-4432-954b-6673baaada8b
LOCATION:Hegibachstrasse 47\, 8032 Zürich\, Schweiz
DESCRIPTION:Thank you for registering to our event "Training: Development of a sustainability strategy"\n\nWe're looking forward to seeing you in Zurich.\n\nIf you have any questions or need to cancel your registration\, please reply to this Email.\n\nYour Global Compact Network Switzerland & Liechtenstein Secretariat\n\n\n\nHere are the event details\n\nTraining: Development of a sustainability strategy \n20 September 2022\, 13:00–17:30 CEST\nZürich\, Hegibachstrasse 47\, 8032 Zürich\, Schweiz
X-ALT-DESC;FMTTYPE=text/html:Thank you for registering to our event "Training: Development of a sustainability strategy"\n\nWe're looking forward to seeing you in Zurich.\n\nIf you have any questions or need to cancel your registration\, please reply to this Email.\n\nYour Global Compact Network Switzerland & Liechtenstein Secretariat\n\n\n\nHere are the event details<br>Training: Development of a sustainability strategy \n20 September 2022\, 13:00–17:30 CEST\nZürich\, Hegibachstrasse 47\, 8032 Zürich\, Schweiz
END:VEVENT
END:VCALENDAR
