BEGIN:VCALENDAR
CALSCALE:GREGORIAN
BEGIN:VEVENT
DTSTAMP:20231022T063318Z
DTSTART:20220509T120000Z
DTEND:20220509T133000Z
SUMMARY:How does the TCFD’s approach influence sustainability regulations (2/3)
UID:940db29e-2623-412a-b5b5-e1018219dd67
LOCATION:
DESCRIPTION:Thank you for registering to our event "How does the TCFD’s approach influence sustainability regulations (2/3)".\n\nWe're looking forward to seeing you there.\n\nJoin Zoom Meeting\n https://us02web.zoom.us/j/83721927933\n\nMeeting-ID: 837 2192 7933\n\nDial in according to current location (Switzerland):\n+41 44 529 92 72\n+41 22 591 00 05\n+41 22 591 01 56\n+41 31 528 09 88\n+41 43 210 70 42\n+41 43 210 71 08\nOther locations: https://us02web.zoom.us/u/kc7FZabPlf\n\nIf you have any questions or need to cancel your registration\, please reply to this Email.\n\nYour Global Compact Network Switzerland & Liechtenstein Secretariat\n\n\n\nHere are the event details:\n\nHow does the TCFD’s approach influence sustainability regulations (2/3)\n9 May 2022\, 14:00–15:30 CEST\nWebinar Series
X-ALT-DESC;FMTTYPE=text/html:Thank you for registering to our event "How does the TCFD’s approach influence sustainability regulations (2/3)".\n\nWe're looking forward to seeing you there.\n\nJoin Zoom Meeting\n https://us02web.zoom.us/j/83721927933\n\nMeeting-ID: 837 2192 7933\n\nDial in according to current location (Switzerland):\n+41 44 529 92 72\n+41 22 591 00 05\n+41 22 591 01 56\n+41 31 528 09 88\n+41 43 210 70 42\n+41 43 210 71 08\nOther locations: https://us02web.zoom.us/u/kc7FZabPlf\n\nIf you have any questions or need to cancel your registration\, please reply to this Email.\n\nYour Global Compact Network Switzerland & Liechtenstein Secretariat\n\n\n\nHere are the event details:<br>How does the TCFD’s approach influence sustainability regulations (2/3)\n9 May 2022\, 14:00–15:30 CEST\nWebinar Series
END:VEVENT
END:VCALENDAR
