BEGIN:VCALENDAR
CALSCALE:GREGORIAN
BEGIN:VEVENT
DTSTAMP:20231022T063227Z
DTSTART:20221208T170000Z
DTEND:20221208T193000Z
SUMMARY:Pizza Networking Event in Zurich
UID:945d8652-0526-4bd0-8275-fdf2b9731407
LOCATION:Europaallee 4\, 8004 Zürich\, Schweiz
DESCRIPTION:Thanks a lot for your registration to the Networking Event\,\n\nWe look forward to seeing you at VITO Zurich on December 8\, 2022.\n\nIf you have any questions or need to cancel your participation\, please reply to this email.\n\nKind regards\,\n\nYour UN Global Compact Network Switzerland & Liechtenstein Secretariat\n\n\nHere are the event details:\n\nPizza Networking Event in Zurich\n8 December 2022\, 18:00–20:30\nVITO Restaurant\, Zürich\, Europaallee 4\, 8004 Zürich\, Schweiz
X-ALT-DESC;FMTTYPE=text/html:Thanks a lot for your registration to the Networking Event\,\n\nWe look forward to seeing you at VITO Zurich on December 8\, 2022.\n\nIf you have any questions or need to cancel your participation\, please reply to this email.\n\nKind regards\,\n\nYour UN Global Compact Network Switzerland & Liechtenstein Secretariat\n\n\nHere are the event details:<br>Pizza Networking Event in Zurich\n8 December 2022\, 18:00–20:30\nVITO Restaurant\, Zürich\, Europaallee 4\, 8004 Zürich\, Schweiz
END:VEVENT
END:VCALENDAR
