BEGIN:VCALENDAR
CALSCALE:GREGORIAN
BEGIN:VEVENT
DTSTAMP:20231022T063157Z
DTSTART:20210609T080000Z
DTEND:20210609T093000Z
SUMMARY:Global Compact Netzwerk Deutschland: Webinarreihe Klimamanagement | Corporate Carbon Footprint Teil 1
UID:94796817-337d-4c25-80e6-1bae17301ba6
LOCATION:
X-ALT-DESC;FMTTYPE=text/html:
END:VEVENT
END:VCALENDAR
