BEGIN:VCALENDAR
CALSCALE:GREGORIAN
BEGIN:VEVENT
DTSTAMP:20231022T062909Z
DTSTART:20200623T064500Z
DTEND:20200623T150000Z
SUMMARY:Training: Workshop on Human Rights Due Diligence
UID:960b8bee-5359-47f6-9455-61d552a0b56e
LOCATION:
DESCRIPTION:Thank you for registering to our event!\n\nWe're looking forward to seeing you there.\n\nHere are the event details:\n\nTraining: Workshop on Human Rights Due Diligence\n23 June 2020\, 08:45–17:00\nTraining
X-ALT-DESC;FMTTYPE=text/html:Thank you for registering to our event!\n\nWe're looking forward to seeing you there.\n\nHere are the event details:<br>Training: Workshop on Human Rights Due Diligence\n23 June 2020\, 08:45–17:00\nTraining
END:VEVENT
END:VCALENDAR
