BEGIN:VCALENDAR
CALSCALE:GREGORIAN
BEGIN:VEVENT
DTSTAMP:20231022T063109Z
DTSTART:20220607T113000Z
DTEND:20220607T143000Z
SUMMARY:Annual General Assembly 2022 (for members only)
UID:969a9d0d-374a-4b12-a580-92673649873c
LOCATION:Stauffacherstrasse 60 8004 Zürich\, Switzerland
DESCRIPTION:Thank you for registering to our event "Annual General Assembly 2022"\n\nWe will send you more information in due course.\n\nIf you have any questions or need to cancel your registration\, please reply to this Email.\n\nWe're looking forward to seeing you there.\n\nYour Global Compact Network Switzerland & Liechtenstein Secretariat\n\n\n\n\nHere are the event details:\n\nAnnual General Assembly 2022 (for members only)\n7 June 2022\, 13:30–16:30 CEST\nVolkshaus Zürch\, Stauffacherstrasse 60 8004 Zürich\, Switzerland
X-ALT-DESC;FMTTYPE=text/html:Thank you for registering to our event "Annual General Assembly 2022"\n\nWe will send you more information in due course.\n\nIf you have any questions or need to cancel your registration\, please reply to this Email.\n\nWe're looking forward to seeing you there.\n\nYour Global Compact Network Switzerland & Liechtenstein Secretariat\n\n\n\n\nHere are the event details:<br>Annual General Assembly 2022 (for members only)\n7 June 2022\, 13:30–16:30 CEST\nVolkshaus Zürch\, Stauffacherstrasse 60 8004 Zürich\, Switzerland
END:VEVENT
END:VCALENDAR
