BEGIN:VCALENDAR
CALSCALE:GREGORIAN
BEGIN:VEVENT
DTSTAMP:20231022T063309Z
DTSTART:20211028T080000Z
DTEND:20211028T090000Z
SUMMARY:Global Compact Netzwerk Deutschland: Webinarreihe Klimamanagement | Klimaschutz in der Wertschöpfungskette
UID:96a13b00-3d91-4f08-860b-0080992d53d9
LOCATION:
X-ALT-DESC;FMTTYPE=text/html:
END:VEVENT
END:VCALENDAR
