BEGIN:VCALENDAR
CALSCALE:GREGORIAN
BEGIN:VEVENT
DTSTAMP:20231022T062919Z
DTSTART:20230525T113000Z
DTEND:20230525T130000Z
SUMMARY:Develop a policy commitment & identify child labour risks & impacts
UID:9819f54c-e6d1-4333-a6f1-0e3027359863
LOCATION:
DESCRIPTION:Thank you for registering to our event "Develop a policy commitment & identify child labour risks & impacts".\n\nWe're looking forward to seeing you there.\n\nJoin Zoom Meeting\nhttps://us02web.zoom.us/j/89726690696\nMeeting-ID: 897 2669 0696\n\nHere are the event details:\n\nDevelop a policy commitment & identify child labour risks & impacts\n25 May 2023\, 13:30–15:00\nWebinar
X-ALT-DESC;FMTTYPE=text/html:Thank you for registering to our event "Develop a policy commitment & identify child labour risks & impacts".\n\nWe're looking forward to seeing you there.\n\nJoin Zoom Meeting\nhttps://us02web.zoom.us/j/89726690696\nMeeting-ID: 897 2669 0696\n\nHere are the event details:<br>Develop a policy commitment & identify child labour risks & impacts\n25 May 2023\, 13:30–15:00\nWebinar
END:VEVENT
END:VCALENDAR
