BEGIN:VCALENDAR
CALSCALE:GREGORIAN
BEGIN:VEVENT
DTSTAMP:20231022T062939Z
DTSTART:20221013T120000Z
DTEND:20221013T133000Z
SUMMARY:Taxonomies and policies guiding toward a Just transition - a step forward the 2030 Agenda 
UID:99fa08e5-8a2e-49d3-b183-cc8993482389
LOCATION:
X-ALT-DESC;FMTTYPE=text/html:
END:VEVENT
END:VCALENDAR
