BEGIN:VCALENDAR
CALSCALE:GREGORIAN
BEGIN:VEVENT
DTSTAMP:20231022T063000Z
DTSTART:20201015T070000Z
DTEND:20201015T080000Z
SUMMARY:Webinar: SDG Ambition Accelerator - Live Q&A
UID:913675a6-19d6-4534-be23-5845f374277a
LOCATION:
DESCRIPTION:Thank you for registering to our event!\n\nWe're looking forward to seeing you there.\n\nHere are the event details:\n\nWebinar: SDG Ambition Accelerator - Live Q&A\n15 October 2020\, 09:00–10:00\nWebinar
X-ALT-DESC;FMTTYPE=text/html:Thank you for registering to our event!\n\nWe're looking forward to seeing you there.\n\nHere are the event details:<br>Webinar: SDG Ambition Accelerator - Live Q&A\n15 October 2020\, 09:00–10:00\nWebinar
END:VEVENT
END:VCALENDAR
