BEGIN:VCALENDAR
CALSCALE:GREGORIAN
BEGIN:VEVENT
DTSTAMP:20231022T063203Z
DTSTART:20220613T120000Z
DTEND:20220613T133000Z
SUMMARY:The Swiss Code of Obligations and the TCFD (3/3)
UID:91a650d5-4032-4a25-8a49-9c31cd92bedb
LOCATION:
DESCRIPTION:Thank you for registering to our event "The Swiss Code of Obligations and the TCFD (3/3)".\n\nWe're looking forward to seeing you there.\n\nJoin Zoom Meeting\nhttps://us02web.zoom.us/j/87044754268\n\nMeeting-ID: 870 4475 4268\n\nDial in according to current location (Switzerland):\n+41 44 529 92 72\n+41 22 591 00 05\n+41 22 591 01 56\n+41 31 528 09 88\n+41 43 210 70 42\n+41 43 210 71 08\nOther locations: https://us02web.zoom.us/u/kc7FZabPlf\n\nIf you have any questions or need to cancel your registration\, please reply to this Email.\n\nYour Global Compact Network Switzerland & Liechtenstein Secretariat\n\n\n\nHere are the event details:\n\nThe Swiss Code of Obligations and the TCFD (3/3)\n13 June 2022\, 14:00–15:30 CEST\nWebinar Series
X-ALT-DESC;FMTTYPE=text/html:Thank you for registering to our event "The Swiss Code of Obligations and the TCFD (3/3)".\n\nWe're looking forward to seeing you there.\n\nJoin Zoom Meeting\nhttps://us02web.zoom.us/j/87044754268\n\nMeeting-ID: 870 4475 4268\n\nDial in according to current location (Switzerland):\n+41 44 529 92 72\n+41 22 591 00 05\n+41 22 591 01 56\n+41 31 528 09 88\n+41 43 210 70 42\n+41 43 210 71 08\nOther locations: https://us02web.zoom.us/u/kc7FZabPlf\n\nIf you have any questions or need to cancel your registration\, please reply to this Email.\n\nYour Global Compact Network Switzerland & Liechtenstein Secretariat\n\n\n\nHere are the event details:<br>The Swiss Code of Obligations and the TCFD (3/3)\n13 June 2022\, 14:00–15:30 CEST\nWebinar Series
END:VEVENT
END:VCALENDAR
