BEGIN:VCALENDAR
CALSCALE:GREGORIAN
BEGIN:VEVENT
DTSTAMP:20231022T063348Z
DTSTART:20220331T140000Z
DTEND:20220331T153000Z
SUMMARY:Global Compact Network UK: Zero Waste (SDG Benchmarks for Business Transformation - Webinar Series)
UID:932794f3-be41-46f3-8457-e439bf199187
LOCATION:
X-ALT-DESC;FMTTYPE=text/html:
END:VEVENT
END:VCALENDAR
