BEGIN:VCALENDAR
CALSCALE:GREGORIAN
BEGIN:VEVENT
DTSTAMP:20231022T062931Z
DTSTART:20201203T130000Z
DTEND:20201203T140000Z
SUMMARY:Webinar: Results of the vote on the Responsible Business Initiative - expectations on companies
UID:93f15d41-0564-4c99-ac11-f8e07c0d3cb5
LOCATION:
DESCRIPTION:Thank you for registering to our event!\n\nWe're looking forward to seeing you there.\n\nHere are the event details:\n\nWebinar: Results of the vote on the Responsible Business Initiative - expectations on companies\n3 December 2020\, 14:00–15:00\nWebinar
X-ALT-DESC;FMTTYPE=text/html:Thank you for registering to our event!\n\nWe're looking forward to seeing you there.\n\nHere are the event details:<br>Webinar: Results of the vote on the Responsible Business Initiative - expectations on companies\n3 December 2020\, 14:00–15:00\nWebinar
END:VEVENT
END:VCALENDAR
