BEGIN:VCALENDAR
CALSCALE:GREGORIAN
BEGIN:VEVENT
DTSTAMP:20231022T063419Z
DTSTART:20221006T143000Z
DTEND:20221006T163000Z
SUMMARY:Responsible Impact Board Program - Human Rights Due Diligence
UID:9a431653-49bf-4df0-8811-1f4cf847ea59
LOCATION:Hegibachstrasse 47\, 8032 Zürich\, Switzerland
DESCRIPTION:Thanks a lot for your registration to the "Responsible Impact Board Program - Human Rights Due Diligence". \n\nWe look forward to welcoming you on the 6th of October in Zurich or online. Further information on the programme and the link for those who join online will follow in due course. \n\nIf you have any questions or need to cancel your participation\, please reply to this email.\n\nKind regards\,\n\nYour UN Global Compact Network Switzerland & Liechtenstein Secretariat\n\nResponsible Impact Board Program - Human Rights Due Diligence\n6 October 2022\, 16:30–18:30 CEST\nZurich & online\, Hegibachstrasse 47\, 8032 Zürich\, Switzerland
X-ALT-DESC;FMTTYPE=text/html:Thanks a lot for your registration to the "Responsible Impact Board Program - Human Rights Due Diligence". \n\nWe look forward to welcoming you on the 6th of October in Zurich or online. Further information on the programme and the link for those who join online will follow in due course. \n\nIf you have any questions or need to cancel your participation\, please reply to this email.\n\nKind regards\,\n\nYour UN Global Compact Network Switzerland & Liechtenstein Secretariat<br>Responsible Impact Board Program - Human Rights Due Diligence\n6 October 2022\, 16:30–18:30 CEST\nZurich & online\, Hegibachstrasse 47\, 8032 Zürich\, Switzerland
END:VEVENT
END:VCALENDAR
