BEGIN:VCALENDAR
CALSCALE:GREGORIAN
BEGIN:VEVENT
DTSTAMP:20231022T054330Z
DTSTART:20231205T090000Z
DTEND:20231205T103000Z
SUMMARY:Sharing & Learning: Just Transition
UID:9b1af513-7c3d-4559-a105-cd65ec86c10f
LOCATION:
DESCRIPTION:Thank you for registering to our event "Sharing & Learning: Just Transition".\n\nWe're looking forward to seeing you there.\n\nJoin Zoom Meeting\nhttps://us02web.zoom.us/j/84292388272\nMeeting-ID: 842 9238 8272\n\n\nHere are the event details:\n\nSharing & Learning: Just Transition\n5 December 2023\, 10:00–11:30\nWebinar
X-ALT-DESC;FMTTYPE=text/html:Thank you for registering to our event "Sharing & Learning: Just Transition".\n\nWe're looking forward to seeing you there.\n\nJoin Zoom Meeting\nhttps://us02web.zoom.us/j/84292388272\nMeeting-ID: 842 9238 8272\n\n\nHere are the event details:<br>Sharing & Learning: Just Transition\n5 December 2023\, 10:00–11:30\nWebinar
END:VEVENT
END:VCALENDAR
