BEGIN:VCALENDAR
CALSCALE:GREGORIAN
BEGIN:VEVENT
DTSTAMP:20231022T063410Z
DTSTART:20210617T073000Z
DTEND:20210617T084500Z
SUMMARY:Annual General Assembly 2021 (for members only)
UID:9b37bfbb-e72c-4815-9df3-4be5bd42e65e
LOCATION:
DESCRIPTION:Thank you for registering to our event "Annual General Assembly 2021"\n\nWe're looking forward to seeing you there.\n\nJoin Zoom Meeting\nhttps://us02web.zoom.us/j/84977834139\n\nMeeting ID: 849 7783 4139\n\nDial in according to current location (Switzerland):\n+41 44 529 92 72\n+41 22 591 00 05\n+41 22 591 01 56\n+41 31 528 09 88\n+41 43 210 70 42\n+41 43 210 71 08\nOther locations: https://us02web.zoom.us/u/kc7FZabPlf\n\nIf you have any questions or need to cancel your registration\, please reply to this Email.\n\nYour Global Compact Network Switzerland & Liechtenstein Secretariat\n\n\n\nHere are the event details:\n\nAnnual General Assembly 2021 (for members only)\n17 June 2021\, 09:30–10:45 CEST\nOnline Event
X-ALT-DESC;FMTTYPE=text/html:Thank you for registering to our event "Annual General Assembly 2021"\n\nWe're looking forward to seeing you there.\n\nJoin Zoom Meeting\nhttps://us02web.zoom.us/j/84977834139\n\nMeeting ID: 849 7783 4139\n\nDial in according to current location (Switzerland):\n+41 44 529 92 72\n+41 22 591 00 05\n+41 22 591 01 56\n+41 31 528 09 88\n+41 43 210 70 42\n+41 43 210 71 08\nOther locations: https://us02web.zoom.us/u/kc7FZabPlf\n\nIf you have any questions or need to cancel your registration\, please reply to this Email.\n\nYour Global Compact Network Switzerland & Liechtenstein Secretariat\n\n\n\nHere are the event details:<br>Annual General Assembly 2021 (for members only)\n17 June 2021\, 09:30–10:45 CEST\nOnline Event
END:VEVENT
END:VCALENDAR
