BEGIN:VCALENDAR
CALSCALE:GREGORIAN
BEGIN:VEVENT
DTSTAMP:20231022T063110Z
DTSTART:20230302T090000Z
DTEND:20230302T103000Z
SUMMARY:Connecting the anti-corruption and human rights agendas:  Challenges and opportunities for business
UID:9b39aa09-1200-4f94-9613-8fb5e1fdb51e
LOCATION:
DESCRIPTION:Thank you for registering to our event!\n\nWe're looking forward to seeing you there.\n\nJoin Zoom Meeting\nhttps://us02web.zoom.us/j/83063349830\n\nMeeting ID: 830 6334 9830\nOne tap mobile\n+41432107108\,\,83063349830# Switzerland\n+41445299272\,\,83063349830# Switzerland\n\nDial by your location\n        +41 43 210 71 08 Switzerland\n        +41 44 529 92 72 Switzerland\n        +41 22 591 00 05 Switzerland\n        +41 22 591 01 56 Switzerland\n        +41 31 528 09 88 Switzerland\n        +41 43 210 70 42 Switzerland\nMeeting ID: 830 6334 9830\n\nFind your local number: https://us02web.zoom.us/u/kbsxIbBo6F\n\nHere are the event details:\n\nConnecting the anti-corruption and human rights agendas:  Challenges and opportunities for business\n2 March 2023\, 10:00–11:30\nWebinar
X-ALT-DESC;FMTTYPE=text/html:Thank you for registering to our event!\n\nWe're looking forward to seeing you there.\n\nJoin Zoom Meeting\nhttps://us02web.zoom.us/j/83063349830\n\nMeeting ID: 830 6334 9830\nOne tap mobile\n+41432107108\,\,83063349830# Switzerland\n+41445299272\,\,83063349830# Switzerland\n\nDial by your location\n        +41 43 210 71 08 Switzerland\n        +41 44 529 92 72 Switzerland\n        +41 22 591 00 05 Switzerland\n        +41 22 591 01 56 Switzerland\n        +41 31 528 09 88 Switzerland\n        +41 43 210 70 42 Switzerland\nMeeting ID: 830 6334 9830\n\nFind your local number: https://us02web.zoom.us/u/kbsxIbBo6F\n\nHere are the event details:<br>Connecting the anti-corruption and human rights agendas:  Challenges and opportunities for business\n2 March 2023\, 10:00–11:30\nWebinar
END:VEVENT
END:VCALENDAR
