BEGIN:VCALENDAR
CALSCALE:GREGORIAN
BEGIN:VEVENT
DTSTAMP:20231022T063201Z
DTSTART:20221006T063000Z
DTEND:20221007T103000Z
SUMMARY:ZCA WORKSHOP – IS YOUR COMPANY READY FOR HUMAN RIGHTS DUE DILIGENCE 
UID:9ce3b442-11da-4ea9-91f6-156c629fe11d
LOCATION:Metallstrasse 20\, 6302 Zug\, Switzerland
X-ALT-DESC;FMTTYPE=text/html:
END:VEVENT
END:VCALENDAR
