BEGIN:VCALENDAR
CALSCALE:GREGORIAN
BEGIN:VEVENT
DTSTAMP:20231022T063317Z
DTSTART:20230919T080000Z
DTEND:20230919T093000Z
SUMMARY:Opening Session | Better Hospitality Initiative | English
UID:9e5102f0-caad-42fe-80cc-54a3590ad5fc
LOCATION:
DESCRIPTION:Thank you for registering for the BHI opening session.\n\nJoin Zoom Meeting\nhttps://us02web.zoom.us/j/88340245091\n\nMeeting ID: 883 4024 5091\n\nIf you have any questions please do not hesitate to contact us.\n\nKind regards\nUN Global Compact Network Switzerland & Liechtenstein\n\n\nHere are the event details:\n\nOpening Session | Better Hospitality Initiative | English\n19 September 2023\, 10:00–11:30\nOnline
X-ALT-DESC;FMTTYPE=text/html:Thank you for registering for the BHI opening session.\n\nJoin Zoom Meeting\nhttps://us02web.zoom.us/j/88340245091\n\nMeeting ID: 883 4024 5091\n\nIf you have any questions please do not hesitate to contact us.\n\nKind regards\nUN Global Compact Network Switzerland & Liechtenstein\n\n\nHere are the event details:<br>Opening Session | Better Hospitality Initiative | English\n19 September 2023\, 10:00–11:30\nOnline
END:VEVENT
END:VCALENDAR
