BEGIN:VCALENDAR
CALSCALE:GREGORIAN
BEGIN:VEVENT
DTSTAMP:20231022T062028Z
DTSTART:20231211T130000Z
DTEND:20231211T140000Z
SUMMARY:11th Briefing on Regulatory Trends in the European Union and at the International Level 
UID:9e6c4b70-b81a-49a2-b1f9-6e6ba86467f8
LOCATION:
DESCRIPTION:Thank you for registering to our event "11th Briefing on Regulatory Trends in the European Union and at the International Level".\n\nWe're looking forward to seeing you there.\n\nJoin Zoom Meeting\nhttps://us02web.zoom.us/j/82926168799\n\nMeeting ID: 829 2616 8799\nOne tap mobile\n+41445299272\,\,82926168799# Switzerland\n+41225910005\,\,82926168799# Switzerland\n\nDial by your location\n        +41 44 529 92 72 Switzerland\n        +41 22 591 00 05 Switzerland\n        +41 22 591 01 56 Switzerland\n        +41 31 528 09 88 Switzerland\n        +41 43 210 70 42 Switzerland\n        +41 43 210 71 08 Switzerland\nMeeting ID: 829 2616 8799\n\nIf you have any questions or need to cancel your registration\, please reply to this Email.\n\nYour Global Compact Network Switzerland & Liechtenstein Secretariat\n\nHere are the event details:\n\n11th Briefing on Regulatory Trends in the European Union and at the International Level \n11 December 2023\, 14:00–15:00\nOnline Event
X-ALT-DESC;FMTTYPE=text/html:Thank you for registering to our event "11th Briefing on Regulatory Trends in the European Union and at the International Level".\n\nWe're looking forward to seeing you there.\n\nJoin Zoom Meeting\nhttps://us02web.zoom.us/j/82926168799\n\nMeeting ID: 829 2616 8799\nOne tap mobile\n+41445299272\,\,82926168799# Switzerland\n+41225910005\,\,82926168799# Switzerland\n\nDial by your location\n        +41 44 529 92 72 Switzerland\n        +41 22 591 00 05 Switzerland\n        +41 22 591 01 56 Switzerland\n        +41 31 528 09 88 Switzerland\n        +41 43 210 70 42 Switzerland\n        +41 43 210 71 08 Switzerland\nMeeting ID: 829 2616 8799\n\nIf you have any questions or need to cancel your registration\, please reply to this Email.\n\nYour Global Compact Network Switzerland & Liechtenstein Secretariat\n\nHere are the event details:<br>11th Briefing on Regulatory Trends in the European Union and at the International Level \n11 December 2023\, 14:00–15:00\nOnline Event
END:VEVENT
END:VCALENDAR
