BEGIN:VCALENDAR
CALSCALE:GREGORIAN
BEGIN:VEVENT
DTSTAMP:20231022T063317Z
DTSTART:20210309T130000Z
DTEND:20210309T143000Z
SUMMARY:Human Rights Due Diligence Step 2 - Identifying Human Rights risks and impacts
UID:9ec8b8d1-6ccd-45a9-aeec-3b77086c9b6e
LOCATION:
DESCRIPTION:Thank you for registering to our event "Human Rights Due Diligence Step 2 - Identifying Human Rights risks and impacts".\n\nWe're looking forward to seeing you there.\n\nJoin Teams Meeting\nhttps://bit.ly/2LdOR0g\n\nIf you have any questions or need to cancel your participation\, please reply to this Email.\n\nYour Global Compact Network Switzerland & Liechtenstein Secretariat\n\n\n\nHere are the event details:\n\nHuman Rights Due Diligence Step 2 - Identifying Human Rights risks and impacts\n9 March 2021\, 14:00–15:30\nOnline Event
X-ALT-DESC;FMTTYPE=text/html:Thank you for registering to our event "Human Rights Due Diligence Step 2 - Identifying Human Rights risks and impacts".\n\nWe're looking forward to seeing you there.\n\nJoin Teams Meeting\nhttps://bit.ly/2LdOR0g\n\nIf you have any questions or need to cancel your participation\, please reply to this Email.\n\nYour Global Compact Network Switzerland & Liechtenstein Secretariat\n\n\n\nHere are the event details:<br>Human Rights Due Diligence Step 2 - Identifying Human Rights risks and impacts\n9 March 2021\, 14:00–15:30\nOnline Event
END:VEVENT
END:VCALENDAR
