BEGIN:VCALENDAR
CALSCALE:GREGORIAN
BEGIN:VEVENT
DTSTAMP:20231022T062941Z
DTSTART:20230921T120000Z
DTEND:20230921T150000Z
SUMMARY:Workshop: Taking effective measures to respect human rights along the value chain
UID:9f209d6e-4c1e-44e3-8ab7-30e34564d586
LOCATION:Hegibachstrasse 47\, 8032 Zürich\, Switzerland
DESCRIPTION:Thank you for registering for our in-person workshop "Taking effective measures to respect human rights along the value chain."\n\nWe're looking forward to seeing you there.\n\nIf you have any questions or need to cancel your registration\, please reply to this Email.\n\nYour UN Global Compact Network Switzerland & Liechtenstein Secretariat\n\nHere are the event details:\n\nWorkshop: Taking effective measures to respect human rights along the value chain\n21 September 2023\, 14:00–17:00\nHaus der Wirtschaft\, Hegibachstrasse 47\, 8032 Zürich\, Switzerland
X-ALT-DESC;FMTTYPE=text/html:Thank you for registering for our in-person workshop "Taking effective measures to respect human rights along the value chain."\n\nWe're looking forward to seeing you there.\n\nIf you have any questions or need to cancel your registration\, please reply to this Email.\n\nYour UN Global Compact Network Switzerland & Liechtenstein Secretariat\n\nHere are the event details:<br>Workshop: Taking effective measures to respect human rights along the value chain\n21 September 2023\, 14:00–17:00\nHaus der Wirtschaft\, Hegibachstrasse 47\, 8032 Zürich\, Switzerland
END:VEVENT
END:VCALENDAR
