BEGIN:VCALENDAR
CALSCALE:GREGORIAN
BEGIN:VEVENT
DTSTAMP:20231022T063403Z
DTSTART:20210819T140000Z
DTEND:20210819T180000Z
SUMMARY:Women Empowerment in Business and Sports
UID:9f5c5492-ecd1-4af3-9b53-f83b21d99dee
LOCATION:Zug\, Schweiz
DESCRIPTION:Thank you for registering to our event "Women Empowerment in Business and Sports". \n\nWe will get in touch with you with further event details soon.\n\nWe're looking forward to seeing you there.\n\nIf you have any questions or need to cancel your participation\, please reply to this Email.\n\nYour Global Compact Network Switzerland & Liechtenstein Secretariat\n\nWomen Empowerment in Business and Sports\n19 August 2021 at 16:00\nZug\, Schweiz
X-ALT-DESC;FMTTYPE=text/html:Thank you for registering to our event "Women Empowerment in Business and Sports". \n\nWe will get in touch with you with further event details soon.\n\nWe're looking forward to seeing you there.\n\nIf you have any questions or need to cancel your participation\, please reply to this Email.\n\nYour Global Compact Network Switzerland & Liechtenstein Secretariat<br>Women Empowerment in Business and Sports\n19 August 2021 at 16:00\nZug\, Schweiz
END:VEVENT
END:VCALENDAR
