BEGIN:VCALENDAR
CALSCALE:GREGORIAN
BEGIN:VEVENT
DTSTAMP:20231022T062850Z
DTSTART:20221024T120000Z
DTEND:20221024T133000Z
SUMMARY: SBTs and Net Zero: Principles\, challenges\, and good practices (4/4)
UID:a6925f62-727a-4964-b219-2587dfeff7c7
LOCATION:
DESCRIPTION:Thank you for registering to our event "SBTs and Net Zero: Principles\, challenges\, and good practices"\n\nWe're looking forward to seeing you there.\n\nJoin Zoom Meeting\n https://us02web.zoom.us/j/83880897868\n\nMeeting ID:  838 8089 7868\n\nDial in according to current location (Switzerland):\n  +41 43 210 70 42 Schweiz\n  +41 43 210 71 08 Schweiz\n  +41 44 529 92 72 Schweiz\n  +41 22 591 00 05 Schweiz\n  +41 22 591 01 56 Schweiz\n  +41 31 528 09 88 Schweiz\nMeeting-ID: 838 8089 7868\nOther locations: https://us02web.zoom.us/j/83880897868\n\n\nIf you have any questions or need to cancel your registration\, please reply to this Email.\n\nYour Global Compact Network Switzerland & Liechtenstein Secretariat\n\n\n\nHere are the event details\n\nSBTs and Net Zero: Principles\, challenges\, and good practices (4/4)\n24 October 2022\, 14:00–15:30 CEST\nWebinar
X-ALT-DESC;FMTTYPE=text/html:Thank you for registering to our event "SBTs and Net Zero: Principles\, challenges\, and good practices"\n\nWe're looking forward to seeing you there.\n\nJoin Zoom Meeting\n https://us02web.zoom.us/j/83880897868\n\nMeeting ID:  838 8089 7868\n\nDial in according to current location (Switzerland):\n  +41 43 210 70 42 Schweiz\n  +41 43 210 71 08 Schweiz\n  +41 44 529 92 72 Schweiz\n  +41 22 591 00 05 Schweiz\n  +41 22 591 01 56 Schweiz\n  +41 31 528 09 88 Schweiz\nMeeting-ID: 838 8089 7868\nOther locations: https://us02web.zoom.us/j/83880897868\n\n\nIf you have any questions or need to cancel your registration\, please reply to this Email.\n\nYour Global Compact Network Switzerland & Liechtenstein Secretariat\n\n\n\nHere are the event details<br>SBTs and Net Zero: Principles\, challenges\, and good practices (4/4)\n24 October 2022\, 14:00–15:30 CEST\nWebinar
END:VEVENT
END:VCALENDAR
