BEGIN:VCALENDAR
CALSCALE:GREGORIAN
BEGIN:VEVENT
DTSTAMP:20231022T054326Z
DTSTART:20231026T073000Z
DTEND:20231026T090000Z
SUMMARY:Certifications\, social audits and supplier management tools – What is their role in human rights due diligence?
UID:a7248f2e-4877-4f8e-9970-49da67031a23
LOCATION:
DESCRIPTION:Thank you for registering for our in-person workshop "Certifications\, social audits and supplier management tools – What is their role in human rights due diligence?"\n\nWe're looking forward to seeing you there.\n\nJoin Zoom Meeting\nhttps://us02web.zoom.us/j/88569189321\nMeeting-ID: 885 6918 9321\n\n\nIf you have any questions or need to cancel your registration\, please reply to this email.\n\nYour UN Global Compact Network Switzerland & Liechtenstein Secretariat\n\nHere are the event details:\n\nCertifications\, social audits and supplier management tools – What is their role in human rights due diligence?\n26 October 2023\, 09:30–11:00\nZoom
X-ALT-DESC;FMTTYPE=text/html:Thank you for registering for our in-person workshop "Certifications\, social audits and supplier management tools – What is their role in human rights due diligence?"\n\nWe're looking forward to seeing you there.\n\nJoin Zoom Meeting\nhttps://us02web.zoom.us/j/88569189321\nMeeting-ID: 885 6918 9321\n\n\nIf you have any questions or need to cancel your registration\, please reply to this email.\n\nYour UN Global Compact Network Switzerland & Liechtenstein Secretariat\n\nHere are the event details:<br>Certifications\, social audits and supplier management tools – What is their role in human rights due diligence?\n26 October 2023\, 09:30–11:00\nZoom
END:VEVENT
END:VCALENDAR
