BEGIN:VCALENDAR
CALSCALE:GREGORIAN
BEGIN:VEVENT
DTSTAMP:20231022T063229Z
DTSTART:20210617T070000Z
DTEND:20210617T093000Z
SUMMARY:Global Compact Netzwerk Deutschland: Webinarreihe Kernarbeitsnormen | Webinar 2 - Ausbeutung bekämpfen
UID:a7a8b54e-52c0-4b4a-b697-22d98c916157
LOCATION:
X-ALT-DESC;FMTTYPE=text/html:
END:VEVENT
END:VCALENDAR
