BEGIN:VCALENDAR
CALSCALE:GREGORIAN
BEGIN:VEVENT
DTSTAMP:20231022T063014Z
DTSTART:20230907T080000Z
DTEND:20230907T090000Z
SUMMARY:SDG Ambition Global Information Session
UID:a83de047-b65f-4514-91dc-0391748d879e
LOCATION:
X-ALT-DESC;FMTTYPE=text/html:
END:VEVENT
END:VCALENDAR
