BEGIN:VCALENDAR
CALSCALE:GREGORIAN
BEGIN:VEVENT
DTSTAMP:20231022T063321Z
DTSTART:20210316T130000Z
DTEND:20210316T153000Z
SUMMARY:7th Meeting of the Working Group Sustainable Supply Chain Management: Tools to assess CSR/RBC of suppliers
UID:a833c588-09fa-4831-a4d8-1947baf683f0
LOCATION:
DESCRIPTION:Thank you for registering to our event "7th Meeting of the Working Group on Sustainable Supply Chains: Tools to assess CSR/RBC of suppliers".\n\nWe're looking forward to seeing you there.\n\nJoin Zoom Meeting\nhttps://us02web.zoom.us/j/84439780279 \n\nMeeting ID: 844 3978 0279\n\nDial in according to current location (Switzerland):\n+41 44 529 92 72\n+41 22 591 00 05\n+41 22 591 01 56\n+41 31 528 09 88\n+41 43 210 70 42\n+41 43 210 71 08\nOther locations: https://us02web.zoom.us/u/kc7FZabPlf\n\nIf you have any questions or need to cancel your registration\, please reply to this Email.\n\nYour Global Compact Network Switzerland & Liechtenstein Secretariat\n\n\n\nHere are the event details:\n\n7th Meeting of the Working Group Sustainable Supply Chain Management: Tools to assess CSR/RBC of suppliers\n16 March 2021\, 14:00–16:30\nOnline Event
X-ALT-DESC;FMTTYPE=text/html:Thank you for registering to our event "7th Meeting of the Working Group on Sustainable Supply Chains: Tools to assess CSR/RBC of suppliers".\n\nWe're looking forward to seeing you there.\n\nJoin Zoom Meeting\nhttps://us02web.zoom.us/j/84439780279 \n\nMeeting ID: 844 3978 0279\n\nDial in according to current location (Switzerland):\n+41 44 529 92 72\n+41 22 591 00 05\n+41 22 591 01 56\n+41 31 528 09 88\n+41 43 210 70 42\n+41 43 210 71 08\nOther locations: https://us02web.zoom.us/u/kc7FZabPlf\n\nIf you have any questions or need to cancel your registration\, please reply to this Email.\n\nYour Global Compact Network Switzerland & Liechtenstein Secretariat\n\n\n\nHere are the event details:<br>7th Meeting of the Working Group Sustainable Supply Chain Management: Tools to assess CSR/RBC of suppliers\n16 March 2021\, 14:00–16:30\nOnline Event
END:VEVENT
END:VCALENDAR
