BEGIN:VCALENDAR
CALSCALE:GREGORIAN
BEGIN:VEVENT
DTSTAMP:20231022T062927Z
DTSTART:20220607T070000Z
DTEND:20220607T100000Z
SUMMARY:öbu\, Swissmem & IG Exact Vertiefungsworkshop: Menschenrechtliche Risikoanalyse
UID:a1242ce6-ac0a-42cd-be08-d75f2f78ac2d
LOCATION:8005 Zürich\, Switzerland
X-ALT-DESC;FMTTYPE=text/html:
END:VEVENT
END:VCALENDAR
