BEGIN:VCALENDAR
CALSCALE:GREGORIAN
BEGIN:VEVENT
DTSTAMP:20231022T063113Z
DTSTART:20210113T133000Z
DTEND:20210113T150000Z
SUMMARY:The Tourism Recovery and Resilience Dialogue Event 3
UID:a170a668-ec52-42c0-a784-4a2002606f9c
LOCATION:
X-ALT-DESC;FMTTYPE=text/html:
END:VEVENT
END:VCALENDAR
