BEGIN:VCALENDAR
CALSCALE:GREGORIAN
BEGIN:VEVENT
DTSTAMP:20231022T062901Z
DTSTART:20200610T150000Z
DTEND:20200610T160000Z
SUMMARY:Pre-evening Dialogue: The role of Reponsible Business Conduct (RBC) in times of Covid-19
UID:a2776731-dd47-47ff-9891-ca6566104017
LOCATION:
DESCRIPTION:Thank you for registering to our event!\n\nWe're looking forward to seeing you there.\n\nHere are the event details:\n\nPre-evening Dialogue: The role of Reponsible Business Conduct (RBC) in times of Covid-19\n10 June 2020\, 17:00–18:00\nPre-evening Dialogue
X-ALT-DESC;FMTTYPE=text/html:Thank you for registering to our event!\n\nWe're looking forward to seeing you there.\n\nHere are the event details:<br>Pre-evening Dialogue: The role of Reponsible Business Conduct (RBC) in times of Covid-19\n10 June 2020\, 17:00–18:00\nPre-evening Dialogue
END:VEVENT
END:VCALENDAR
