BEGIN:VCALENDAR
CALSCALE:GREGORIAN
BEGIN:VEVENT
DTSTAMP:20231022T060907Z
DTSTART:20230626T130000Z
DTEND:20230626T150000Z
SUMMARY:Compliance Dialogue: The Case of Glencore
UID:a3145c5f-4887-4774-b839-1fcae903bc0e
LOCATION:Hegibachstrasse 47\, 8032 Zürich\, Switzerland
DESCRIPTION:Thank you for registering to the Compliance Dialogue about Glencore.\n\n\nIf you have any questions please do not hesitate to contact us.\n\nWe're looking forward to seeing you.\n\nKind regards\nUN Global Compact Network Switzerland & Liechtenstein\n\n\nHere are the event details:\n\nCompliance Dialogue: The Case of Glencore\n26 June 2023\, 15:00–17:00\nHaus der Wirtschaft\, Zürich\, Hegibachstrasse 47\, 8032 Zürich\, Switzerland
X-ALT-DESC;FMTTYPE=text/html:Thank you for registering to the Compliance Dialogue about Glencore.\n\n\nIf you have any questions please do not hesitate to contact us.\n\nWe're looking forward to seeing you.\n\nKind regards\nUN Global Compact Network Switzerland & Liechtenstein\n\n\nHere are the event details:<br>Compliance Dialogue: The Case of Glencore\n26 June 2023\, 15:00–17:00\nHaus der Wirtschaft\, Zürich\, Hegibachstrasse 47\, 8032 Zürich\, Switzerland
END:VEVENT
END:VCALENDAR
