BEGIN:VCALENDAR
CALSCALE:GREGORIAN
BEGIN:VEVENT
DTSTAMP:20231022T063148Z
DTSTART:20221003T120000Z
DTEND:20221003T133000Z
SUMMARY:Webinar: Enhanced CoP - requirements and useful tips for preparation and submission
UID:a35e3cad-5f4b-479c-976e-1be49d84c465
LOCATION:
DESCRIPTION:Thank you for registering to our event "Webinar: Enhanced CoP - requirements and useful tips for preparation and submission"\n\nWe're looking forward to seeing you there.\n\nJoin Zoom Meeting\nhttps://us02web.zoom.us/j/88270850287\n\nMeeting-ID: 882 7085 0287\n\nDial in according to current location (Switzerland):\n        +41 44 529 92 72 Schweiz\n        +41 22 591 00 05 Schweiz\n        +41 22 591 01 56 Schweiz\n        +41 31 528 09 88 Schweiz\n        +41 43 210 70 42 Schweiz\n        +41 43 210 71 08 Schweiz\nMeeting-ID: 882 7085 0287\nOther locations:  https://us02web.zoom.us/u/kRbVHGAsm\n\nIf you have any questions or need to cancel your registration\, please reply to this Email.\n\nYour Global Compact Network Switzerland & Liechtenstein Secretariat\n\n\n\nHere are the event details\n\nWebinar: Enhanced CoP - requirements and useful tips for preparation and submission\n3 October 2022\, 14:00–15:30 CEST\nWebinar
X-ALT-DESC;FMTTYPE=text/html:Thank you for registering to our event "Webinar: Enhanced CoP - requirements and useful tips for preparation and submission"\n\nWe're looking forward to seeing you there.\n\nJoin Zoom Meeting\nhttps://us02web.zoom.us/j/88270850287\n\nMeeting-ID: 882 7085 0287\n\nDial in according to current location (Switzerland):\n        +41 44 529 92 72 Schweiz\n        +41 22 591 00 05 Schweiz\n        +41 22 591 01 56 Schweiz\n        +41 31 528 09 88 Schweiz\n        +41 43 210 70 42 Schweiz\n        +41 43 210 71 08 Schweiz\nMeeting-ID: 882 7085 0287\nOther locations:  https://us02web.zoom.us/u/kRbVHGAsm\n\nIf you have any questions or need to cancel your registration\, please reply to this Email.\n\nYour Global Compact Network Switzerland & Liechtenstein Secretariat\n\n\n\nHere are the event details<br>Webinar: Enhanced CoP - requirements and useful tips for preparation and submission\n3 October 2022\, 14:00–15:30 CEST\nWebinar
END:VEVENT
END:VCALENDAR
