BEGIN:VCALENDAR
CALSCALE:GREGORIAN
BEGIN:VEVENT
DTSTAMP:20231022T062950Z
DTSTART:20230420T113000Z
DTEND:20230420T120000Z
SUMMARY:Deep Dive: Assessing the risk of corruption to your business
UID:a35f05a7-05c0-4897-b91a-e1700984386d
LOCATION:
X-ALT-DESC;FMTTYPE=text/html:
END:VEVENT
END:VCALENDAR
