BEGIN:VCALENDAR
CALSCALE:GREGORIAN
BEGIN:VEVENT
DTSTAMP:20231022T060907Z
DTSTART:20231018T070000Z
DTEND:20231018T150000Z
SUMMARY:Swiss Forum 'Business and Human Rights' 2023
UID:ab909f46-e6a7-48c6-a55c-a0f6b90790b5
LOCATION:Kursaal Bern\, Kornhausstrasse 3\, 3013 Bern\, Switzerland
DESCRIPTION:Thank you for registering to the Swiss Forum 'Business and Human Rights' at the Kursaal in Bern.\n\nFor more information please visit: https://www.nap-bhr.admin.ch/napbhr/en/home/forum/a-propos-du-forum.html\n\nWe are looking forward to seeing you there!\n\nIf you have any questions\, do not hesitate to contact info@globalcompact.ch or reply to this email.\n\nHere are the event details:\n\nSwiss Forum 'Business and Human Rights' 2023\n18 October 2023\, 09:00–17:00\nEvent mandated by FDFA & SECO\, Kursaal Bern\, Kornhausstrasse 3\, 3013 Bern\, Switzerland
X-ALT-DESC;FMTTYPE=text/html:Thank you for registering to the Swiss Forum 'Business and Human Rights' at the Kursaal in Bern.\n\nFor more information please visit: https://www.nap-bhr.admin.ch/napbhr/en/home/forum/a-propos-du-forum.html\n\nWe are looking forward to seeing you there!\n\nIf you have any questions\, do not hesitate to contact info@globalcompact.ch or reply to this email.\n\nHere are the event details:<br>Swiss Forum 'Business and Human Rights' 2023\n18 October 2023\, 09:00–17:00\nEvent mandated by FDFA & SECO\, Kursaal Bern\, Kornhausstrasse 3\, 3013 Bern\, Switzerland
END:VEVENT
END:VCALENDAR
