BEGIN:VCALENDAR
CALSCALE:GREGORIAN
BEGIN:VEVENT
DTSTAMP:20231022T062756Z
DTSTART:20230504T073000Z
DTEND:20230504T093000Z
SUMMARY:GCNSL & öbu: 13th Meeting of the Working Group on Sustainable Supply Chain Management
UID:abbb0587-81e8-441c-868f-d8a142002fd8
LOCATION:
DESCRIPTION:Thank you for registering to our event!\n\nWe're looking forward to seeing you there.\n\nJoin Zoom Meeting\nhttps://us02web.zoom.us/j/81851750058\nMeeting-ID: 818 5175 0058\n\nHere are the event details:\n\nGCNSL & öbu: 13th Meeting of the Working Group on Sustainable Supply Chain Management\n4 May 2023\, 09:30–11:30\nWebinar
X-ALT-DESC;FMTTYPE=text/html:Thank you for registering to our event!\n\nWe're looking forward to seeing you there.\n\nJoin Zoom Meeting\nhttps://us02web.zoom.us/j/81851750058\nMeeting-ID: 818 5175 0058\n\nHere are the event details:<br>GCNSL & öbu: 13th Meeting of the Working Group on Sustainable Supply Chain Management\n4 May 2023\, 09:30–11:30\nWebinar
END:VEVENT
END:VCALENDAR
