BEGIN:VCALENDAR
CALSCALE:GREGORIAN
BEGIN:VEVENT
DTSTAMP:20231022T062929Z
DTSTART:20230420T133000Z
DTEND:20230421T133000Z
SUMMARY:Tech for Sustainability Event on Green Growth
UID:abbe654a-025f-4f96-a4d0-8b1e39c1ef23
LOCATION:The Circle 02\, Flughafen Zürich\, 8058 Zürich\, Schweiz
X-ALT-DESC;FMTTYPE=text/html:
END:VEVENT
END:VCALENDAR
