BEGIN:VCALENDAR
CALSCALE:GREGORIAN
BEGIN:VEVENT
DTSTAMP:20231022T063421Z
DTSTART:20211110T080000Z
DTEND:20211110T190000Z
SUMMARY:Business Ambition for Climate Action - Live from COP26
UID:ad929cf4-036c-46d8-990b-c5ca3ec12fbd
LOCATION:
X-ALT-DESC;FMTTYPE=text/html:
END:VEVENT
END:VCALENDAR
