BEGIN:VCALENDAR
CALSCALE:GREGORIAN
BEGIN:VEVENT
DTSTAMP:20231022T063250Z
DTSTART:20230112T080000Z
DTEND:20230112T110000Z
SUMMARY:Workshop TNFD framework v0.3
UID:ae53aacf-f9e4-4f56-a0f1-b80e79cb1c7e
LOCATION:
X-ALT-DESC;FMTTYPE=text/html:
END:VEVENT
END:VCALENDAR
