BEGIN:VCALENDAR
CALSCALE:GREGORIAN
BEGIN:VEVENT
DTSTAMP:20231022T062905Z
DTSTART:20221130T140000Z
DTEND:20221201T140000Z
SUMMARY:Information Session for the SDG Innovation Accelerator for Young Professionals
UID:aee7af6c-8027-4df6-8004-70f8a0fdb945
LOCATION:
X-ALT-DESC;FMTTYPE=text/html:
END:VEVENT
END:VCALENDAR
