BEGIN:VCALENDAR
CALSCALE:GREGORIAN
BEGIN:VEVENT
DTSTAMP:20231022T062754Z
DTSTART:20230201T140000Z
DTEND:20230202T140000Z
SUMMARY:Information Session: Submitting the enhanced Communication on Progress in 2023
UID:b47e5dce-5cbe-4563-91e7-e2c451437092
LOCATION:
X-ALT-DESC;FMTTYPE=text/html:
END:VEVENT
END:VCALENDAR
