BEGIN:VCALENDAR
CALSCALE:GREGORIAN
BEGIN:VEVENT
DTSTAMP:20231022T063029Z
DTSTART:20210520T130000Z
DTEND:20210520T141500Z
SUMMARY:Global Compact Netzwerk Deutschland: Webinarreihe Die Sustainable Development Goals in der Unternehmenspraxis (Teil 1)
UID:b4b19591-5650-45b0-a87f-5c960317672e
LOCATION:
X-ALT-DESC;FMTTYPE=text/html:
END:VEVENT
END:VCALENDAR
