BEGIN:VCALENDAR
CALSCALE:GREGORIAN
BEGIN:VEVENT
DTSTAMP:20231022T063439Z
DTSTART:20220926T120000Z
DTEND:20220926T133000Z
SUMMARY:Corporate Carbon Footprint Scope 1 and 2: How to manage GHG accounting and  implement reduction measures (2/4)
UID:b5d3b6fb-06e9-4a6a-a6a0-72f88a493f5c
LOCATION:
DESCRIPTION:Thank you for registering to our event "Corporate Carbon Footprint Scope 1 and 2: How to manage GHG accounting and  implement reduction measures".\n\nWe're looking forward to seeing you there.\n\nJoin Zoom Meeting\n  https://us02web.zoom.us/j/83459882763\n\nMeeting ID:  834 5988 2763\n\nDial in according to current location (Switzerland):\n  +41 43 210 70 42 Schweiz\n  +41 43 210 71 08 Schweiz\n  +41 44 529 92 72 Schweiz\n  +41 22 591 00 05 Schweiz\n  +41 22 591 01 56 Schweiz\n  +41 31 528 09 88 Schweiz\nMeeting-ID: 834 5988 2763\nOther locations:   https://us02web.zoom.us/j/83459882763\n\n\nIf you have any questions or need to cancel your registration\, please reply to this Email.\n\nYour Global Compact Network Switzerland & Liechtenstein Secretariat\n\n\n\nHere are the event details\n\nCorporate Carbon Footprint Scope 1 and 2: How to manage GHG accounting and  implement reduction measures (2/4)\n26 September 2022\, 14:00–15:30 CEST\nWebinar
X-ALT-DESC;FMTTYPE=text/html:Thank you for registering to our event "Corporate Carbon Footprint Scope 1 and 2: How to manage GHG accounting and  implement reduction measures".\n\nWe're looking forward to seeing you there.\n\nJoin Zoom Meeting\n  https://us02web.zoom.us/j/83459882763\n\nMeeting ID:  834 5988 2763\n\nDial in according to current location (Switzerland):\n  +41 43 210 70 42 Schweiz\n  +41 43 210 71 08 Schweiz\n  +41 44 529 92 72 Schweiz\n  +41 22 591 00 05 Schweiz\n  +41 22 591 01 56 Schweiz\n  +41 31 528 09 88 Schweiz\nMeeting-ID: 834 5988 2763\nOther locations:   https://us02web.zoom.us/j/83459882763\n\n\nIf you have any questions or need to cancel your registration\, please reply to this Email.\n\nYour Global Compact Network Switzerland & Liechtenstein Secretariat\n\n\n\nHere are the event details<br>Corporate Carbon Footprint Scope 1 and 2: How to manage GHG accounting and  implement reduction measures (2/4)\n26 September 2022\, 14:00–15:30 CEST\nWebinar
END:VEVENT
END:VCALENDAR
