BEGIN:VCALENDAR
CALSCALE:GREGORIAN
BEGIN:VEVENT
DTSTAMP:20231022T063250Z
DTSTART:20210923T080000Z
DTEND:20210923T093000Z
SUMMARY:Global Compact Netzwerk Deutschland: Webinarreihe Kernarbeitsnormen | Webinar 3 - Kinder beschützen
UID:b610ba0f-98b9-47a1-b77e-1081874c27e1
LOCATION:
X-ALT-DESC;FMTTYPE=text/html:
END:VEVENT
END:VCALENDAR
