BEGIN:VCALENDAR
CALSCALE:GREGORIAN
BEGIN:VEVENT
DTSTAMP:20231022T063323Z
DTSTART:20230522T120000Z
DTEND:20230522T133000Z
SUMMARY:Introduction to the UN Global Compact & CSR/RBC (English) 
UID:b906e51b-d97e-45ed-ae5d-06e9a0867b72
LOCATION:
DESCRIPTION:Thank you for registering to our event "Introduction to the UN Global Compact and CSR/RBC".\n\nWe're looking forward to seeing you there.\n\nJoin Zoom Meeting\nhttps://us02web.zoom.us/j/82936567450\n\nMeeting ID: 829 3656 7450\nOne tap mobile\n+41315280988\,\,82936567450# Switzerland\n+41432107042\,\,82936567450# Switzerland\n\nDial by your location\n        +41 31 528 09 88 Switzerland\n        +41 43 210 70 42 Switzerland\n        +41 43 210 71 08 Switzerland\n        +41 44 529 92 72 Switzerland\n        +41 22 591 00 05 Switzerland\n        +41 22 591 01 56 Switzerland\n\nMeeting ID: 829 3656 7450\nFind your local number: https://us02web.zoom.us/u/kcr8cBXuft\n\nIf you have any questions or need to cancel your registration\, please reply to this Email.\n\nYour Global Compact Network Switzerland & Liechtenstein Secretariat\n\n\n\nHere are the event details:\n\nIntroduction to the UN Global Compact & CSR/RBC (English) \n22 May 2023\, 14:00–15:30 CEST\nOnline Event
X-ALT-DESC;FMTTYPE=text/html:Thank you for registering to our event "Introduction to the UN Global Compact and CSR/RBC".\n\nWe're looking forward to seeing you there.\n\nJoin Zoom Meeting\nhttps://us02web.zoom.us/j/82936567450\n\nMeeting ID: 829 3656 7450\nOne tap mobile\n+41315280988\,\,82936567450# Switzerland\n+41432107042\,\,82936567450# Switzerland\n\nDial by your location\n        +41 31 528 09 88 Switzerland\n        +41 43 210 70 42 Switzerland\n        +41 43 210 71 08 Switzerland\n        +41 44 529 92 72 Switzerland\n        +41 22 591 00 05 Switzerland\n        +41 22 591 01 56 Switzerland\n\nMeeting ID: 829 3656 7450\nFind your local number: https://us02web.zoom.us/u/kcr8cBXuft\n\nIf you have any questions or need to cancel your registration\, please reply to this Email.\n\nYour Global Compact Network Switzerland & Liechtenstein Secretariat\n\n\n\nHere are the event details:<br>Introduction to the UN Global Compact & CSR/RBC (English) \n22 May 2023\, 14:00–15:30 CEST\nOnline Event
END:VEVENT
END:VCALENDAR
