BEGIN:VCALENDAR
CALSCALE:GREGORIAN
BEGIN:VEVENT
DTSTAMP:20231022T063433Z
DTSTART:20230420T080000Z
DTEND:20230420T093000Z
SUMMARY:CoP Deep Dive: Climate & Anti-Corruption
UID:b0ec32c6-0790-4f49-9077-d92fa9c598b2
LOCATION:
DESCRIPTION:Thank you for registering to our event!\n\nWe're looking forward to seeing you there.\n\nJoin Zoom Meeting\nhttps://us02web.zoom.us/j/87569838576\n\nMeeting ID: 875 6983 8576\nOne tap mobile\n+41225910005\,\,87569838576# Switzerland\n+41225910156\,\,87569838576# Switzerland\n\nDial by your location\n        +41 22 591 00 05 Switzerland\n        +41 22 591 01 56 Switzerland\n        +41 31 528 09 88 Switzerland\n        +41 43 210 70 42 Switzerland\n        +41 43 210 71 08 Switzerland\n        +41 44 529 92 72 Switzerland\n\nHere are the event details:\n\nCoP Deep Dive: Climate & Anti-Corruption\n20 April 2023\, 10:00–11:30\nWebinar
X-ALT-DESC;FMTTYPE=text/html:Thank you for registering to our event!\n\nWe're looking forward to seeing you there.\n\nJoin Zoom Meeting\nhttps://us02web.zoom.us/j/87569838576\n\nMeeting ID: 875 6983 8576\nOne tap mobile\n+41225910005\,\,87569838576# Switzerland\n+41225910156\,\,87569838576# Switzerland\n\nDial by your location\n        +41 22 591 00 05 Switzerland\n        +41 22 591 01 56 Switzerland\n        +41 31 528 09 88 Switzerland\n        +41 43 210 70 42 Switzerland\n        +41 43 210 71 08 Switzerland\n        +41 44 529 92 72 Switzerland\n\nHere are the event details:<br>CoP Deep Dive: Climate & Anti-Corruption\n20 April 2023\, 10:00–11:30\nWebinar
END:VEVENT
END:VCALENDAR
