BEGIN:VCALENDAR
CALSCALE:GREGORIAN
BEGIN:VEVENT
DTSTAMP:20231022T063439Z
DTSTART:20220322T151500Z
DTEND:20220322T163000Z
SUMMARY:Pre-evening dialogue: Responsible Technology and AI
UID:b11977a3-7f81-42a4-a03c-ab71905c4de8
LOCATION:
X-ALT-DESC;FMTTYPE=text/html:
END:VEVENT
END:VCALENDAR
