BEGIN:VCALENDAR
CALSCALE:GREGORIAN
BEGIN:VEVENT
DTSTAMP:20231022T060901Z
DTSTART:20230921T150000Z
DTEND:20230921T163000Z
SUMMARY:Sesión de apertura | Better Hospitality Initiative | Español 
UID:b361f89c-e9eb-4c54-919c-4358543024ac
LOCATION:
DESCRIPTION:Thank you for registering for the BHI opening session.\n\nJoin Zoom Meeting\nhttps://us02web.zoom.us/j/81506728244\n\nMeeting ID: 815 0672 8244\n\nIf you have any questions please do not hesitate to contact us.\n\nKind regards\nUN Global Compact Network Switzerland & Liechtenstein\n\n\nHere are the event details:\n\nSesión de apertura | Better Hospitality Initiative | Español \n21 September 2023\, 17:00–18:30\nOnline
X-ALT-DESC;FMTTYPE=text/html:Thank you for registering for the BHI opening session.\n\nJoin Zoom Meeting\nhttps://us02web.zoom.us/j/81506728244\n\nMeeting ID: 815 0672 8244\n\nIf you have any questions please do not hesitate to contact us.\n\nKind regards\nUN Global Compact Network Switzerland & Liechtenstein\n\n\nHere are the event details:<br>Sesión de apertura | Better Hospitality Initiative | Español \n21 September 2023\, 17:00–18:30\nOnline
END:VEVENT
END:VCALENDAR
