BEGIN:VCALENDAR
CALSCALE:GREGORIAN
BEGIN:VEVENT
DTSTAMP:20231022T063428Z
DTSTART:20220428T070000Z
DTEND:20220428T100000Z
SUMMARY:Swiss Retail Federation: menschenrechtliche Sorgfaltsprüfung - Risiken identifizieren und priorisieren
UID:b392ef71-e2a9-44b7-ab78-f41334c1533b
LOCATION:Limmatstrasse 5\, 8005 Zürich\, Switzerland
X-ALT-DESC;FMTTYPE=text/html:
END:VEVENT
END:VCALENDAR
